BEGIN:VCALENDAR
VERSION:2.0
PRODID:-//Adams County Government - ECPv6.15.20//NONSGML v1.0//EN
CALSCALE:GREGORIAN
METHOD:PUBLISH
X-ORIGINAL-URL:https://adamscountyoh.gov
X-WR-CALDESC:Events for Adams County Government
REFRESH-INTERVAL;VALUE=DURATION:PT1H
X-Robots-Tag:noindex
X-PUBLISHED-TTL:PT1H
BEGIN:VTIMEZONE
TZID:UTC
BEGIN:STANDARD
TZOFFSETFROM:+0000
TZOFFSETTO:+0000
TZNAME:UTC
DTSTART:20200101T000000
END:STANDARD
END:VTIMEZONE
BEGIN:VEVENT
DTSTART;VALUE=DATE:20210101
DTEND;VALUE=DATE:20210102
DTSTAMP:20260420T171454
CREATED:20210108T172239Z
LAST-MODIFIED:20210108T172239Z
UID:28559-1609459200-1609545599@adamscountyoh.gov
SUMMARY:2021 Holiday Closure - New Year's Day
DESCRIPTION:January 1\, 2021- New Year’s Day
URL:https://adamscountyoh.gov/event/2021-holiday-closure-new-years-day/
END:VEVENT
BEGIN:VEVENT
DTSTART;TZID=UTC:20210104T090000
DTEND;TZID=UTC:20210104T110000
DTSTAMP:20260420T171454
CREATED:20210108T171555Z
LAST-MODIFIED:20210108T171705Z
UID:28447-1609750800-1609758000@adamscountyoh.gov
SUMMARY:2021 Regular Session Meeting
DESCRIPTION:2021 Regular Session Meeting Dates:\nResolution 2020-443 \nThe regular session meetings will be conducted in the office of the Adams County Board of Commissioners and will commence at 9:00 a.m. until the business is completed.
URL:https://adamscountyoh.gov/event/2021-regular-session-meeting/
LOCATION:Adams County Board of Commissioners\, West Union\, OH\, 45693\, United States
END:VEVENT
BEGIN:VEVENT
DTSTART;TZID=UTC:20210111T090000
DTEND;TZID=UTC:20210111T110000
DTSTAMP:20260420T171454
CREATED:20210108T171555Z
LAST-MODIFIED:20210108T171705Z
UID:28454-1610355600-1610362800@adamscountyoh.gov
SUMMARY:2021 Regular Session Meeting
DESCRIPTION:2021 Regular Session Meeting Dates:\nResolution 2020-443 \nThe regular session meetings will be conducted in the office of the Adams County Board of Commissioners and will commence at 9:00 a.m. until the business is completed.
URL:https://adamscountyoh.gov/event/2021-regular-session-meeting-2021-01-11/
LOCATION:Adams County Board of Commissioners\, West Union\, OH\, 45693\, United States
END:VEVENT
BEGIN:VEVENT
DTSTART;VALUE=DATE:20210118
DTEND;VALUE=DATE:20210119
DTSTAMP:20260420T171454
CREATED:20210108T172348Z
LAST-MODIFIED:20210108T172348Z
UID:28561-1610928000-1611014399@adamscountyoh.gov
SUMMARY:2021 Holiday Closure - Martin Luther King Day
DESCRIPTION:January 18\, 2021- Martin Luther King Day
URL:https://adamscountyoh.gov/event/2021-holiday-closure-martin-luther-king-day/
END:VEVENT
BEGIN:VEVENT
DTSTART;TZID=UTC:20210118T090000
DTEND;TZID=UTC:20210118T110000
DTSTAMP:20260420T171454
CREATED:20210108T171555Z
LAST-MODIFIED:20210108T171705Z
UID:28455-1610960400-1610967600@adamscountyoh.gov
SUMMARY:2021 Regular Session Meeting
DESCRIPTION:2021 Regular Session Meeting Dates:\nResolution 2020-443 \nThe regular session meetings will be conducted in the office of the Adams County Board of Commissioners and will commence at 9:00 a.m. until the business is completed.
URL:https://adamscountyoh.gov/event/2021-regular-session-meeting-2021-01-18/
LOCATION:Adams County Board of Commissioners\, West Union\, OH\, 45693\, United States
END:VEVENT
BEGIN:VEVENT
DTSTART;TZID=UTC:20210125T090000
DTEND;TZID=UTC:20210125T110000
DTSTAMP:20260420T171454
CREATED:20210108T171555Z
LAST-MODIFIED:20210108T171705Z
UID:28456-1611565200-1611572400@adamscountyoh.gov
SUMMARY:2021 Regular Session Meeting
DESCRIPTION:2021 Regular Session Meeting Dates:\nResolution 2020-443 \nThe regular session meetings will be conducted in the office of the Adams County Board of Commissioners and will commence at 9:00 a.m. until the business is completed.
URL:https://adamscountyoh.gov/event/2021-regular-session-meeting-2021-01-25/
LOCATION:Adams County Board of Commissioners\, West Union\, OH\, 45693\, United States
END:VEVENT
END:VCALENDAR