BEGIN:VCALENDAR
VERSION:2.0
PRODID:-//Adams County Government - ECPv6.15.20//NONSGML v1.0//EN
CALSCALE:GREGORIAN
METHOD:PUBLISH
X-ORIGINAL-URL:https://adamscountyoh.gov
X-WR-CALDESC:Events for Adams County Government
REFRESH-INTERVAL;VALUE=DURATION:PT1H
X-Robots-Tag:noindex
X-PUBLISHED-TTL:PT1H
BEGIN:VTIMEZONE
TZID:UTC
BEGIN:STANDARD
TZOFFSETFROM:+0000
TZOFFSETTO:+0000
TZNAME:UTC
DTSTART:20200101T000000
END:STANDARD
END:VTIMEZONE
BEGIN:VEVENT
DTSTART;TZID=UTC:20210301T090000
DTEND;TZID=UTC:20210301T110000
DTSTAMP:20260420T142102
CREATED:20210108T171555Z
LAST-MODIFIED:20210108T171706Z
UID:28461-1614589200-1614596400@adamscountyoh.gov
SUMMARY:2021 Regular Session Meeting
DESCRIPTION:2021 Regular Session Meeting Dates:\nResolution 2020-443 \nThe regular session meetings will be conducted in the office of the Adams County Board of Commissioners and will commence at 9:00 a.m. until the business is completed.
URL:https://adamscountyoh.gov/event/2021-regular-session-meeting-2021-03-01/
LOCATION:Adams County Board of Commissioners\, West Union\, OH\, 45693\, United States
END:VEVENT
BEGIN:VEVENT
DTSTART;TZID=UTC:20210308T090000
DTEND;TZID=UTC:20210308T110000
DTSTAMP:20260420T142102
CREATED:20210108T171555Z
LAST-MODIFIED:20210108T171706Z
UID:28462-1615194000-1615201200@adamscountyoh.gov
SUMMARY:2021 Regular Session Meeting
DESCRIPTION:2021 Regular Session Meeting Dates:\nResolution 2020-443 \nThe regular session meetings will be conducted in the office of the Adams County Board of Commissioners and will commence at 9:00 a.m. until the business is completed.
URL:https://adamscountyoh.gov/event/2021-regular-session-meeting-2021-03-08/
LOCATION:Adams County Board of Commissioners\, West Union\, OH\, 45693\, United States
END:VEVENT
BEGIN:VEVENT
DTSTART;TZID=UTC:20210315T090000
DTEND;TZID=UTC:20210315T110000
DTSTAMP:20260420T142102
CREATED:20210108T171555Z
LAST-MODIFIED:20210108T171706Z
UID:28463-1615798800-1615806000@adamscountyoh.gov
SUMMARY:2021 Regular Session Meeting
DESCRIPTION:2021 Regular Session Meeting Dates:\nResolution 2020-443 \nThe regular session meetings will be conducted in the office of the Adams County Board of Commissioners and will commence at 9:00 a.m. until the business is completed.
URL:https://adamscountyoh.gov/event/2021-regular-session-meeting-2021-03-15/
LOCATION:Adams County Board of Commissioners\, West Union\, OH\, 45693\, United States
END:VEVENT
BEGIN:VEVENT
DTSTART;TZID=UTC:20210322T090000
DTEND;TZID=UTC:20210322T110000
DTSTAMP:20260420T142102
CREATED:20210108T171555Z
LAST-MODIFIED:20210108T171715Z
UID:28464-1616403600-1616410800@adamscountyoh.gov
SUMMARY:2021 Regular Session Meeting
DESCRIPTION:2021 Regular Session Meeting Dates:\nResolution 2020-443 \nThe regular session meetings will be conducted in the office of the Adams County Board of Commissioners and will commence at 9:00 a.m. until the business is completed.
URL:https://adamscountyoh.gov/event/2021-regular-session-meeting-2021-03-22/
LOCATION:Adams County Board of Commissioners\, West Union\, OH\, 45693\, United States
END:VEVENT
BEGIN:VEVENT
DTSTART;TZID=UTC:20210329T090000
DTEND;TZID=UTC:20210329T110000
DTSTAMP:20260420T142102
CREATED:20210108T171555Z
LAST-MODIFIED:20210108T171715Z
UID:28465-1617008400-1617015600@adamscountyoh.gov
SUMMARY:2021 Regular Session Meeting
DESCRIPTION:2021 Regular Session Meeting Dates:\nResolution 2020-443 \nThe regular session meetings will be conducted in the office of the Adams County Board of Commissioners and will commence at 9:00 a.m. until the business is completed.
URL:https://adamscountyoh.gov/event/2021-regular-session-meeting-2021-03-29/
LOCATION:Adams County Board of Commissioners\, West Union\, OH\, 45693\, United States
END:VEVENT
END:VCALENDAR