BEGIN:VCALENDAR
VERSION:2.0
PRODID:-//Adams County Government - ECPv6.15.20//NONSGML v1.0//EN
CALSCALE:GREGORIAN
METHOD:PUBLISH
X-WR-CALNAME:Adams County Government
X-ORIGINAL-URL:https://adamscountyoh.gov
X-WR-CALDESC:Events for Adams County Government
REFRESH-INTERVAL;VALUE=DURATION:PT1H
X-Robots-Tag:noindex
X-PUBLISHED-TTL:PT1H
BEGIN:VTIMEZONE
TZID:UTC
BEGIN:STANDARD
TZOFFSETFROM:+0000
TZOFFSETTO:+0000
TZNAME:UTC
DTSTART:20200101T000000
END:STANDARD
END:VTIMEZONE
BEGIN:VEVENT
DTSTART;TZID=UTC:20210607T090000
DTEND;TZID=UTC:20210607T110000
DTSTAMP:20260420T102341
CREATED:20210108T171555Z
LAST-MODIFIED:20210108T171719Z
UID:28475-1623056400-1623063600@adamscountyoh.gov
SUMMARY:2021 Regular Session Meeting
DESCRIPTION:2021 Regular Session Meeting Dates:\nResolution 2020-443 \nThe regular session meetings will be conducted in the office of the Adams County Board of Commissioners and will commence at 9:00 a.m. until the business is completed.
URL:https://adamscountyoh.gov/event/2021-regular-session-meeting-2021-06-07/
LOCATION:Adams County Board of Commissioners\, West Union\, OH\, 45693\, United States
END:VEVENT
BEGIN:VEVENT
DTSTART;TZID=UTC:20210614T090000
DTEND;TZID=UTC:20210614T110000
DTSTAMP:20260420T102341
CREATED:20210108T171555Z
LAST-MODIFIED:20210108T171719Z
UID:28476-1623661200-1623668400@adamscountyoh.gov
SUMMARY:2021 Regular Session Meeting
DESCRIPTION:2021 Regular Session Meeting Dates:\nResolution 2020-443 \nThe regular session meetings will be conducted in the office of the Adams County Board of Commissioners and will commence at 9:00 a.m. until the business is completed.
URL:https://adamscountyoh.gov/event/2021-regular-session-meeting-2021-06-14/
LOCATION:Adams County Board of Commissioners\, West Union\, OH\, 45693\, United States
END:VEVENT
BEGIN:VEVENT
DTSTART;TZID=UTC:20210621T090000
DTEND;TZID=UTC:20210621T110000
DTSTAMP:20260420T102341
CREATED:20210108T171555Z
LAST-MODIFIED:20210108T171719Z
UID:28477-1624266000-1624273200@adamscountyoh.gov
SUMMARY:2021 Regular Session Meeting
DESCRIPTION:2021 Regular Session Meeting Dates:\nResolution 2020-443 \nThe regular session meetings will be conducted in the office of the Adams County Board of Commissioners and will commence at 9:00 a.m. until the business is completed.
URL:https://adamscountyoh.gov/event/2021-regular-session-meeting-2021-06-21/
LOCATION:Adams County Board of Commissioners\, West Union\, OH\, 45693\, United States
END:VEVENT
BEGIN:VEVENT
DTSTART;TZID=UTC:20210628T090000
DTEND;TZID=UTC:20210628T110000
DTSTAMP:20260420T102341
CREATED:20210108T171555Z
LAST-MODIFIED:20210108T171719Z
UID:28478-1624870800-1624878000@adamscountyoh.gov
SUMMARY:2021 Regular Session Meeting
DESCRIPTION:2021 Regular Session Meeting Dates:\nResolution 2020-443 \nThe regular session meetings will be conducted in the office of the Adams County Board of Commissioners and will commence at 9:00 a.m. until the business is completed.
URL:https://adamscountyoh.gov/event/2021-regular-session-meeting-2021-06-28/
LOCATION:Adams County Board of Commissioners\, West Union\, OH\, 45693\, United States
END:VEVENT
END:VCALENDAR